BEGIN:VCALENDAR
VERSION:2.0
PRODID:-//Literacy in Kamloops - ECPv6.15.15//NONSGML v1.0//EN
CALSCALE:GREGORIAN
METHOD:PUBLISH
X-WR-CALNAME:Literacy in Kamloops
X-ORIGINAL-URL:https://literacyinkamloops.ca
X-WR-CALDESC:Events for Literacy in Kamloops
REFRESH-INTERVAL;VALUE=DURATION:PT1H
X-Robots-Tag:noindex
X-PUBLISHED-TTL:PT1H
BEGIN:VTIMEZONE
TZID:America/Vancouver
BEGIN:DAYLIGHT
TZOFFSETFROM:-0800
TZOFFSETTO:-0700
TZNAME:PDT
DTSTART:20250309T100000
END:DAYLIGHT
BEGIN:STANDARD
TZOFFSETFROM:-0700
TZOFFSETTO:-0800
TZNAME:PST
DTSTART:20251102T090000
END:STANDARD
BEGIN:DAYLIGHT
TZOFFSETFROM:-0800
TZOFFSETTO:-0700
TZNAME:PDT
DTSTART:20260308T100000
END:DAYLIGHT
BEGIN:STANDARD
TZOFFSETFROM:-0700
TZOFFSETTO:-0800
TZNAME:PST
DTSTART:20261101T090000
END:STANDARD
BEGIN:DAYLIGHT
TZOFFSETFROM:-0800
TZOFFSETTO:-0700
TZNAME:PDT
DTSTART:20270314T100000
END:DAYLIGHT
BEGIN:STANDARD
TZOFFSETFROM:-0700
TZOFFSETTO:-0800
TZNAME:PST
DTSTART:20271107T090000
END:STANDARD
END:VTIMEZONE
BEGIN:VEVENT
DTSTART;TZID=America/Vancouver:20260127T090000
DTEND;TZID=America/Vancouver:20260127T120000
DTSTAMP:20260419T081048
CREATED:20250911T161900Z
LAST-MODIFIED:20260112T185804Z
UID:1464-1769504400-1769515200@literacyinkamloops.ca
SUMMARY:Come Read With Me Volunteer Tutor Training
DESCRIPTION:Join us for a 3 hour volunteer tutor training where you will learn simple strategies and word games to help build your young readers’ fluency and confidence.\nPlease register by contacting Cami at cami.literacyinkamloops@gmail.com or 250-573-1785
URL:https://literacyinkamloops.ca/event/come-read-with-me-volunteer-tutor-training-5/
LOCATION:Henry Grube Education Centre\, 245 Kitchener Crescent\, Kamloops\, British Columbia\, V2B 1B9\, Canada
CATEGORIES:Come Read with Me,Come Read with Me Volunteer Tutoring
ATTACH;FMTTYPE=image/jpeg:https://literacyinkamloops.ca/wp-content/uploads/2025/09/IMG_7170.jpg
END:VEVENT
END:VCALENDAR